BEGIN:VCALENDAR
VERSION:2.0
PRODID:-//hacksw/handcal//NONSGML v1.0//EN
BEGIN:VEVENT
SUMMARY:match du week-end
UID:f1a9f6fa-5e75-4197-8f3c-0de668c3f433
DTSTART:20260329T083000Z
DTEND:20260329T101500Z
LOCATION:Localisation   
CATEGORIES:Sportif
STATUS:
URL;VALUE=URI:https://www.lmfc.fr/evenements/2026/03/29/match-du-week-end-2432254
END:VEVENT
END:VCALENDAR
