BEGIN:VCALENDAR
VERSION:2.0
PRODID:-//hacksw/handcal//NONSGML v1.0//EN
BEGIN:VEVENT
SUMMARY:matchs du week-end
UID:5ff5610d-1445-4b08-a2c8-652f2b4c6d31
DTSTART:20260412T083000Z
DTEND:20260412T101500Z
LOCATION:Localisation   
CATEGORIES:Sportif
STATUS:
URL;VALUE=URI:https://www.lmfc.fr/evenements/2026/04/12/matchs-du-week-end-2438922
END:VEVENT
END:VCALENDAR
